BEGIN:VCALENDAR
VERSION:2.0
PRODID:-//eventon.com NONSGML v1.0//EN
CALSCALE:GREGORIAN
METHOD:PUBLISH
BEGIN:VEVENT
UID:69e696b7bc096
DTSTAMP:20260420T211223Z
DTSTART:20260423T200000Z
DTEND:20260424T053000Z
LOCATION:
SUMMARY:Jueves en Fahrenheit 451: "Sant Jordi alternativo"
DESCRIPTION:Sant Jordi Alternativo Día. 23 de abril\,  jueves Hora. 19.00h
  Lugar: Fahrenheit 451 (Alicante) Presentación + coloquio Entrada Libre\, 
  pero cómprate un libro Queridas\,  llega uno de nuestros momentos favorit
 os del año. Esperamos que acudáis\,  que regaléis\,  que os aprovechéis
  de los descuentos\,  que nos pidáis muchos libros y que[..]\nhttps://quef
 as.es/events/jueves-fahrenheit451/
URL:https://quefas.es/events/jueves-fahrenheit451/
END:VEVENT
END:VCALENDAR