BEGIN:VCALENDAR
VERSION:2.0
PRODID:-//eventon.com NONSGML v1.0//EN
CALSCALE:GREGORIAN
METHOD:PUBLISH
BEGIN:VEVENT
UID:69e8490078b7f
DTSTAMP:20260422T040520Z
DTSTART:20260425T190000Z
DTEND:20260425T203000Z
LOCATION:
SUMMARY:Mejor no decirlo
DESCRIPTION:Mejor no decirlo Día: 25 de abril\,  sábado\,  a las 19.00h D
 ía: 26 de abril\,  domingo\,  las 18:00 h Lugar: Teatro Principal de Alica
 nte TEATRO PRECIO - Patio y club 26 € / Palco corrido 18 € / Anfiteatro
  12 € comprar Él (Imanol Arias) y Ella (María Barranco) son[..]\nhttps:
 //quefas.es/events/teatro-principal-alicante-obra/
URL:https://quefas.es/events/teatro-principal-alicante-obra/
END:VEVENT
END:VCALENDAR