BEGIN:VCALENDAR
VERSION:2.0
PRODID:-//eventon.com NONSGML v1.0//EN
CALSCALE:GREGORIAN
METHOD:PUBLISH
BEGIN:VEVENT
UID:69e666a85b066
DTSTAMP:20260420T174720Z
DTSTART:20260321T220000Z
DTEND:20260321T233000Z
LOCATION:
SUMMARY:Exsonvaldes + Belona
DESCRIPTION:Exsonvaldes + Belona Día: 21 de marzo\,  viernes Hora: 22.00h 
 Lugar: Stereo Alicante Entradas: 13€ COMPRAR EXSONVALDES en concierto –
  Presentación de Ninety Seconds to Midnight Sala STEREO\,  Alicante Sábad
 o 21 de marzo de 2026 El mítico trío parisino EXSONVALDES vuelve a los es
 cenarios españoles para una noche única en[..]\nhttps://quefas.es/events/
 stereo-concierto-alc/
URL:https://quefas.es/events/stereo-concierto-alc/
END:VEVENT
END:VCALENDAR