BEGIN:VCALENDAR
VERSION:2.0
PRODID:-//eventon.com NONSGML v1.0//EN
CALSCALE:GREGORIAN
METHOD:PUBLISH
BEGIN:VEVENT
UID:69e88df272189
DTSTAMP:20260422T085930Z
DTSTART:20260426T043000Z
DTEND:20260426T070000Z
LOCATION:
SUMMARY:Medicina + Denise Dunstan
DESCRIPTION:Medicina (Algeciras) + Denise Dunstan (Alicante) 25 de abril\, 
  sábado Hora. 19.30h Lugar: Las Cigarreras (Alicante) Entradas: 7-10€ -M
 edicina. MEDICINA&nbsp;es un trio de veteranos de la escena de Algeciras qu
 e lleva en funcionamiento desde 2012. Su propuesta consiste en una aleació
 n de estilos. Shoegaze\,  grunge\,  post punk y rock espacial.[..]\nhttps:/
 /quefas.es/events/la-amistat-cigarreras/
URL:https://quefas.es/events/la-amistat-cigarreras/
END:VEVENT
END:VCALENDAR