BEGIN:VCALENDAR
VERSION:2.0
PRODID:-//eventon.com NONSGML v1.0//EN
CALSCALE:GREGORIAN
METHOD:PUBLISH
BEGIN:VEVENT
UID:69e9d825bbef7
DTSTAMP:20260423T082821Z
DTSTART:20260424T050000Z
DTEND:20260424T063000Z
LOCATION:
SUMMARY:Jueves en El Tumbao: Coralia Rodríguez
DESCRIPTION:Coralia Rodríguez Día: 23 de abril\,  jueves Hora: 20.00h Lug
 ar: El Taller Tumbao (Alicante) NARRACIÓN ORAL Entradas: 10€ (reservas 
 en el 601613129)\nhttps://quefas.es/events/jueves-en-el-tumbao/
URL:https://quefas.es/events/jueves-en-el-tumbao/
END:VEVENT
END:VCALENDAR