BEGIN:VCALENDAR
VERSION:2.0
PRODID:-//eventon.com NONSGML v1.0//EN
CALSCALE:GREGORIAN
METHOD:PUBLISH
BEGIN:VEVENT
UID:69e816f10b042
DTSTAMP:20260422T003145Z
DTSTART:20260315T050000Z
DTEND:20260315T063000Z
LOCATION:
SUMMARY:Nosaltres - Mostra de Teatre
DESCRIPTION:IV Mostra Nacional de Teatre Amateur Nosaltres - Mostra Teatre 
 con cuatro montajes teatrales gratuitos en los dos fines de semana centrale
 s del mes de marzo. Sábado 14 a las 20:00h "Tierra" de @anabasa_lesfiguret
 es. Domingo 15 a las 19:00h "La decisió de Lola" de @panicescenic. Sábado
  21 a las 20:00h[..]\nhttps://quefas.es/events/sant-joan-escenicas/
URL:https://quefas.es/events/sant-joan-escenicas/
END:VEVENT
END:VCALENDAR