BEGIN:VCALENDAR
VERSION:2.0
PRODID:-//eventon.com NONSGML v1.0//EN
CALSCALE:GREGORIAN
METHOD:PUBLISH
BEGIN:VEVENT
UID:69e9c70122503
DTSTAMP:20260423T071513Z
DTSTART:20250202T210000Z
DTEND:20250203T013000Z
LOCATION:
SUMMARY:La Bagatela
DESCRIPTION:El Ayuntamiento de Aigües se complace en anunciar el regreso d
 el formato mensual de nuestro tradicional mercadillo\,  que tendrá lugar e
 l próximo 2 de febrero. Este evento será una ocasión especial para disfr
 utar de la riqueza cultural y artesanal que caracteriza a nuestra región\,
   un referente tanto en el ámbito[..]\nhttps://quefas.es/events/la-bagatel
 a/
URL:https://quefas.es/events/la-bagatela/
END:VEVENT
END:VCALENDAR