BEGIN:VCALENDAR
VERSION:2.0
PRODID:-//eventon.com NONSGML v1.0//EN
CALSCALE:GREGORIAN
METHOD:PUBLISH
BEGIN:VEVENT
UID:69eaa2e7a4583
DTSTAMP:20260423T225327Z
DTSTART:20260423T060000Z
DTEND:20260423T080000Z
LOCATION:
SUMMARY:Cineforum Ocho y Medio
DESCRIPTION:Cine: â€œCoffee and Cigarettes / Father Mother Sister Brotherâ€
  (Jim Jarmusch) DÃ­a: 22 de abril\,  miÃ©rcoles Hora: 21.00h Lugar: (Sala 
 8 y Medio\,  Alicante) CINE DirecciÃ³n: Jim Jarmusch Precio de la entrada: 
 No especificado SINOPSISProyecciÃ³n de una obra del director Jim Jarmusch\,
   cineasta clave del cine independiente contemporÃ¡neo. La pelÃ­cula[..]\nh
 ttps://quefas.es/events/cineforum-ocho-y-medio/
URL:https://quefas.es/events/cineforum-ocho-y-medio/
END:VEVENT
END:VCALENDAR