BEGIN:VCALENDAR
VERSION:2.0
PRODID:-//eventon.com NONSGML v1.0//EN
CALSCALE:GREGORIAN
METHOD:PUBLISH
BEGIN:VEVENT
UID:69e6f499277e2
DTSTAMP:20260421T035257Z
DTSTART:20260222T060000Z
DTEND:20260222T073000Z
LOCATION:
SUMMARY:XXII JORNADAS DE TEATRO UNIVERSITARIO EN EL BAJO SEGURA
DESCRIPTION:Lugar: Auditorio de la Escuela de Música y Cultura de Los Mon
 tesinos. C/ Zaragoza\,  5- Hora:&nbsp;20.00 h XXIII Jornadas de Teatro Univ
 ersitario en el Bajo Segura "Remedios Muñoz Hernández" Descargar tríptic
 o (pdf) Durante los sábados del 7 al 28 de febrero de 2025\,  el Audito
 rio municipal de Música y Cultura de Los Montesinos (C/ Zaragoza\, [..]\n
 https://quefas.es/events/xxii-jornadas-de-teatro-universitario-en-el-bajo-s
 egura/
URL:https://quefas.es/events/xxii-jornadas-de-teatro-universitario-en-el-bajo-segura/
END:VEVENT
END:VCALENDAR